Workbook

Sheet 2라운드
A1: 2019 전국 고등축구 저학년리그 전북권역 대진표
A5: 회차 | B5: 경기번호 | C5: 날짜 | D5: 시간 | E5: 대 진 | I5: 경기장
A6: 1 | B6: 1 | C6: 03.16(토) | D6: 0.55555556 | E6: 8 | F6: 김제예랑FC | H6: 전주공고 | I6: 김제시민운동장 A
B7: 2 | C7: 03.16(토) | D7: 0.59027778 | E7: 2 | F7: 이리고 | H7: 김제예랑FC | I7: 김제시민운동장 A
B8: 3 | C8: 03.16(토) | D8: 0.625 | E8: 4 | F8: 전주공고 | H8: 이리고 | I8: 김제시민운동장 A
A9: 2 | B9: 4 | C9: 03.30(토) | D9: 0.55555556 | E9: 7 | F9: 김제예랑FC | H9: 이리고 | I9: 김제시민운동장 A
B10: 5 | C10: 03.30(토) | D10: 0.59027778 | E10: 6 | F10: 전주공고 | H10: 김제예랑FC | I10: 김제시민운동장 A
B11: 6 | C11: 03.30(토) | D11: 0.625 | E11: 4 | F11: 이리고 | H11: 전주공고 | I11: 김제시민운동장 A
A12: 3 | B12: 7 | C12: 04.06(토) | D12: 0.48611111 | E12: 1 | F12: 김제예랑FC | H12: 이리고 | I12: 김제시민운동장 A
B13: 8 | C13: 04.06(토) | D13: 0.52083333 | E13: 7 | F13: 전주공고 | H13: 김제예랑FC | I13: 김제시민운동장 A
B14: 9 | C14: 04.06(토) | D14: 0.55555556 | E14: 2 | F14: 이리고 | H14: 전주공고 | I14: 김제시민운동장 A
A15: 4 | B15: 10 | C15: 04.20(토) | D15: 0.55555556 | E15: 5 | F15: 이리고 | H15: 전주공고 | I15: 김제시민운동장 A
B16: 11 | C16: 04.20(토) | D16: 0.59027778 | E16: 4 | F16: 김제예랑FC | H16: 이리고 | I16: 김제시민운동장 A
B17: 12 | C17: 04.20(토) | D17: 0.625 | E17: 2 | F17: 전주공고 | H17: 김제예랑FC | I17: 김제시민운동장 A
A18: 5 | B18: 13 | C18: 05.04(토) | D18: 0.55555556 | E18: 3 | F18: 전주공고 | H18: 이리고 | I18: 김제시민운동장 A
B19: 14 | C19: 05.04(토) | D19: 0.59027778 | E19: 2 | F19: 김제예랑FC | H19: 전주공고 | I19: 김제시민운동장 A
B20: 15 | C20: 05.04(토) | D20: 0.625 | E20: 7 | F20: 이리고 | H20: 김제예랑FC | I20: 김제시민운동장 A
A21: 6 | B21: 16 | C21: 06.15(토) | D21: 0.55555556 | E21: 1 | F21: 전주공고 | H21: 김제예랑FC | I21: 김제시민운동장 A
B22: 17 | C22: 06.15(토) | D22: 0.59027778 | E22: 3 | F22: 이리고 | H22: 전주공고 | I22: 김제시민운동장 A
B23: 18 | C23: 06.15(토) | D23: 0.625 | E23: 5 | F23: 김제예랑FC | H23: 이리고 | I23: 김제시민운동장 A
A24: 7 | B24: 19 | C24: 06.22(토) | D24: 0.55555556 | E24: 1 | F24: 김제예랑FC | H24: 전주공고 | I24: 김제시민운동장 A
B25: 20 | C25: 06.22(토) | D25: 0.59027778 | E25: 7 | F25: 이리고 | H25: 김제예랑FC | I25: 김제시민운동장 A
B26: 21 | C26: 06.22(토) | D26: 0.625 | E26: 5 | F26: 전주공고 | H26: 이리고 | I26: 김제시민운동장 A
A27: 8 | B27: 22 | C27: 06.29(토) | D27: 0.55555556 | E27: 1 | F27: 김제예랑FC | H27: 이리고 | I27: 김제시민운동장 A
B28: 23 | C28: 06.29(토) | D28: 0.59027778 | E28: 8 | F28: 전주공고 | H28: 김제예랑FC | I28: 김제시민운동장 A
B29: 24 | C29: 06.29(토) | D29: 0.625 | E29: 3 | F29: 이리고 | H29: 전주공고 | I29: 김제시민운동장 A
A30: 9 | B30: 25 | C30: 08.31(토) | D30: 0.48611111 | E30: 6 | F30: 이리고 | H30: 김제예랑FC | I30: 김제시민운동장 A
B31: 26 | C31: 08.31(토) | D31: 0.52083333 | E31: 5 | F31: 전주공고 | H31: 이리고 | I31: 김제시민운동장 A
B32: 27 | C32: 08.31(토) | D32: 0.55555556 | E32: 3 | F32: 김제예랑FC | H32: 전주공고 | I32: 김제시민운동장 A
A33: 10 | B33: 28 | C33: 09.07(토) | D33: 0.55555556 | E33: 1 | F33: 이리고 | H33: 김제예랑FC | I33: 김제시민운동장 A
B34: 29 | C34: 09.07(토) | D34: 0.59027778 | E34: 6 | F34: 전주공고 | H34: 이리고 | I34: 김제시민운동장 A
B35: 30 | C35: 09.07(토) | D35: 0.625 | E35: 8 | F35: 김제예랑FC | H35: 전주공고 | I35: 김제시민운동장 A
A36: 11 | B36: 31 | C36: 09.21(토) | D36: 0.48611111 | E36: 4 | F36: 전주공고 | H36: 이리고 | I36: 김제시민운동장 A
B37: 32 | C37: 09.21(토) | D37: 0.52083333 | E37: 3 | F37: 김제예랑FC | H37: 전주공고 | I37: 김제시민운동장 A
B38: 33 | C38: 09.21(토) | D38: 0.55555556 | E38: 8 | F38: 이리고 | H38: 김제예랑FC | I38: 김제시민운동장 A
A39: 12 | B39: 34 | C39: 09.28(토) | D39: 0.55555556 | E39: 1 | F39: 전주공고 | H39: 이리고 | I39: 김제시민운동장 A
B40: 35 | C40: 09.28(토) | D40: 0.59027778 | E40: 4 | F40: 김제예랑FC | H40: 전주공고 | I40: 김제시민운동장 A
B41: 36 | C41: 09.28(토) | D41: 0.625 | E41: 6 | F41: 이리고 | H41: 김제예랑FC | I41: 김제시민운동장 A
A42: 13 | B42: 37 | C42: 10.12(토) | D42: 0.48611111 | E42: 1 | F42: 이리고 | H42: 전주공고 | I42: 김제시민운동장 A
B43: 38 | C43: 10.12(토) | D43: 0.52083333 | E43: 5 | F43: 김제예랑FC | H43: 이리고 | I43: 김제시민운동장 A
B44: 39 | C44: 10.12(토) | D44: 0.55555556 | E44: 7 | F44: 전주공고 | H44: 김제예랑FC | I44: 김제시민운동장 A
A45: 14 | B45: 40 | C45: 10.19(토) | D45: 0.55555556 | E45: 2 | F45: 전주공고 | H45: 김제예랑FC | I45: 김제시민운동장 A
B46: 41 | C46: 10.19(토) | D46: 0.59027778 | E46: 8 | F46: 이리고 | H46: 전주공고 | I46: 김제시민운동장 A
B47: 42 | C47: 10.19(토) | D47: 0.625 | E47: 6 | F47: 김제예랑FC | H47: 이리고 | I47: 김제시민운동장 A

Sheet 팀명
A1: 추첨번호 | B1: 팀명
A2: 1 | B2: 전주시민축구단U-18
A3: 2 | B3: 단풍FC U-18
A4: 3 | B4: 전주공고
A5: 4 | B5: 김제예랑FC
A6: 5 | B6: 이리고
A7: 6 | B7: 백제고
A8: 7 | B8: 군산제일고
A9: 8 | B9: 김제지평선FC

Sheet 1라운드
A1: 전국초등축구리그 대진표(8팀/28경기/팀당7경기)
A4: 리그 주관 : 전라북도축구협회
A6: 회차 | B6: 경기번호 | C6: 날짜 | D6: 시간 | E6: 대 진 | I6: 경기장
A7: 1 | B7: 1 | C7: 3.10(토) | D7: 0.41666667 | E7: 8 | F7: =VLOOKUP(E7,팀명!$A$2:$B$15,2,FALSE) -> 김제지평선FC | G7: 1 | H7: =VLOOKUP(G7,팀명!$A$2:$B$15,2,FALSE) -> 전주시민축구단U-18
B8: 2 | C8: 3.10(토) | D8: 0.45833333 | E8: 2 | F8: =VLOOKUP(E8,팀명!$A$2:$B$15,2,FALSE) -> 단풍FC U-18 | G8: 7 | H8: =VLOOKUP(G8,팀명!$A$2:$B$15,2,FALSE) -> 군산제일고
B9: 3 | C9: 3.10(토) | D9: 0.5 | E9: 6 | F9: =VLOOKUP(E9,팀명!$A$2:$B$15,2,FALSE) -> 백제고 | G9: 3 | H9: =VLOOKUP(G9,팀명!$A$2:$B$15,2,FALSE) -> 전주공고
B10: 4 | C10: 3.10(토) | D10: 0.54166667 | E10: 4 | F10: =VLOOKUP(E10,팀명!$A$2:$B$15,2,FALSE) -> 김제예랑FC | G10: 5 | H10: =VLOOKUP(G10,팀명!$A$2:$B$15,2,FALSE) -> 이리고
A11: 2 | B11: 5 | D11: 0.41666667 | E11: 7 | F11: =VLOOKUP(E11,팀명!$A$2:$B$15,2,FALSE) -> 군산제일고 | G11: 1 | H11: =VLOOKUP(G11,팀명!$A$2:$B$15,2,FALSE) -> 전주시민축구단U-18
B12: 6 | D12: 0.45833333 | E12: 6 | F12: =VLOOKUP(E12,팀명!$A$2:$B$15,2,FALSE) -> 백제고 | G12: 8 | H12: =VLOOKUP(G12,팀명!$A$2:$B$15,2,FALSE) -> 김제지평선FC
B13: 7 | D13: 0.5 | E13: 5 | F13: =VLOOKUP(E13,팀명!$A$2:$B$15,2,FALSE) -> 이리고 | G13: 2 | H13: =VLOOKUP(G13,팀명!$A$2:$B$15,2,FALSE) -> 단풍FC U-18
B14: 8 | D14: 0.54166667 | E14: 4 | F14: =VLOOKUP(E14,팀명!$A$2:$B$15,2,FALSE) -> 김제예랑FC | G14: 3 | H14: =VLOOKUP(G14,팀명!$A$2:$B$15,2,FALSE) -> 전주공고
A15: 3 | B15: 9 | D15: 0.41666667 | E15: 1 | F15: =VLOOKUP(E15,팀명!$A$2:$B$15,2,FALSE) -> 전주시민축구단U-18 | G15: 6 | H15: =VLOOKUP(G15,팀명!$A$2:$B$15,2,FALSE) -> 백제고
B16: 10 | D16: 0.45833333 | E16: 7 | F16: =VLOOKUP(E16,팀명!$A$2:$B$15,2,FALSE) -> 군산제일고 | G16: 5 | H16: =VLOOKUP(G16,팀명!$A$2:$B$15,2,FALSE) -> 이리고
B17: 11 | D17: 0.5 | E17: 8 | F17: =VLOOKUP(E17,팀명!$A$2:$B$15,2,FALSE) -> 김제지평선FC | G17: 4 | H17: =VLOOKUP(G17,팀명!$A$2:$B$15,2,FALSE) -> 김제예랑FC
B18: 12 | D18: 0.54166667 | E18: 2 | F18: =VLOOKUP(E18,팀명!$A$2:$B$15,2,FALSE) -> 단풍FC U-18 | G18: 3 | H18: =VLOOKUP(G18,팀명!$A$2:$B$15,2,FALSE) -> 전주공고
A19: 4 | B19: 13 | D19: 0.41666667 | E19: 5 | F19: =VLOOKUP(E19,팀명!$A$2:$B$15,2,FALSE) -> 이리고 | G19: 1 | H19: =VLOOKUP(G19,팀명!$A$2:$B$15,2,FALSE) -> 전주시민축구단U-18
B20: 14 | D20: 0.45833333 | E20: 4 | F20: =VLOOKUP(E20,팀명!$A$2:$B$15,2,FALSE) -> 김제예랑FC | G20: 6 | H20: =VLOOKUP(G20,팀명!$A$2:$B$15,2,FALSE) -> 백제고
B21: 15 | D21: 0.5 | E21: 3 | F21: =VLOOKUP(E21,팀명!$A$2:$B$15,2,FALSE) -> 전주공고 | G21: 7 | H21: =VLOOKUP(G21,팀명!$A$2:$B$15,2,FALSE) -> 군산제일고
B22: 16 | D22: 0.54166667 | E22: 2 | F22: =VLOOKUP(E22,팀명!$A$2:$B$15,2,FALSE) -> 단풍FC U-18 | G22: 8 | H22: =VLOOKUP(G22,팀명!$A$2:$B$15,2,FALSE) -> 김제지평선FC
A23: 5 | B23: 17 | D23: 0.41666667 | E23: 1 | F23: =VLOOKUP(E23,팀명!$A$2:$B$15,2,FALSE) -> 전주시민축구단U-18 | G23: 4 | H23: =VLOOKUP(G23,팀명!$A$2:$B$15,2,FALSE) -> 김제예랑FC
B24: 18 | D24: 0.45833333 | E24: 5 | F24: =VLOOKUP(E24,팀명!$A$2:$B$15,2,FALSE) -> 이리고 | G24: 3 | H24: =VLOOKUP(G24,팀명!$A$2:$B$15,2,FALSE) -> 전주공고
B25: 19 | D25: 0.5 | E25: 6 | F25: =VLOOKUP(E25,팀명!$A$2:$B$15,2,FALSE) -> 백제고 | G25: 2 | H25: =VLOOKUP(G25,팀명!$A$2:$B$15,2,FALSE) -> 단풍FC U-18
B26: 20 | D26: 0.54166667 | E26: 7 | F26: =VLOOKUP(E26,팀명!$A$2:$B$15,2,FALSE) -> 군산제일고 | G26: 8 | H26: =VLOOKUP(G26,팀명!$A$2:$B$15,2,FALSE) -> 김제지평선FC
A27: 6 | B27: 21 | D27: 0.41666667 | E27: 3 | F27: =VLOOKUP(E27,팀명!$A$2:$B$15,2,FALSE) -> 전주공고 | G27: 1 | H27: =VLOOKUP(G27,팀명!$A$2:$B$15,2,FALSE) -> 전주시민축구단U-18
B28: 22 | D28: 0.45833333 | E28: 2 | F28: =VLOOKUP(E28,팀명!$A$2:$B$15,2,FALSE) -> 단풍FC U-18 | G28: 4 | H28: =VLOOKUP(G28,팀명!$A$2:$B$15,2,FALSE) -> 김제예랑FC
B29: 23 | D29: 0.5 | E29: 8 | F29: =VLOOKUP(E29,팀명!$A$2:$B$15,2,FALSE) -> 김제지평선FC | G29: 5 | H29: =VLOOKUP(G29,팀명!$A$2:$B$15,2,FALSE) -> 이리고
B30: 24 | D30: 0.54166667 | E30: 7 | F30: =VLOOKUP(E30,팀명!$A$2:$B$15,2,FALSE) -> 군산제일고 | G30: 6 | H30: =VLOOKUP(G30,팀명!$A$2:$B$15,2,FALSE) -> 백제고
A31: 7 | B31: 25 | D31: 0.41666667 | E31: 1 | F31: =VLOOKUP(E31,팀명!$A$2:$B$15,2,FALSE) -> 전주시민축구단U-18 | G31: 2 | H31: =VLOOKUP(G31,팀명!$A$2:$B$15,2,FALSE) -> 단풍FC U-18
B32: 26 | D32: 0.45833333 | E32: 3 | F32: =VLOOKUP(E32,팀명!$A$2:$B$15,2,FALSE) -> 전주공고 | G32: 8 | H32: =VLOOKUP(G32,팀명!$A$2:$B$15,2,FALSE) -> 김제지평선FC
B33: 27 | D33: 0.5 | E33: 4 | F33: =VLOOKUP(E33,팀명!$A$2:$B$15,2,FALSE) -> 김제예랑FC | G33: 7 | H33: =VLOOKUP(G33,팀명!$A$2:$B$15,2,FALSE) -> 군산제일고
B34: 28 | D34: 0.54166667 | E34: 5 | F34: =VLOOKUP(E34,팀명!$A$2:$B$15,2,FALSE) -> 이리고 | G34: 6 | H34: =VLOOKUP(G34,팀명!$A$2:$B$15,2,FALSE) -> 백제고
